BEGIN:VCALENDAR
VERSION:2.0
PRODID:-//wp-events-plugin.com//7.2.3.1//EN
TZID:Europe/Berlin
X-WR-TIMEZONE:Europe/Berlin
BEGIN:VEVENT
UID:28@lvkp-bw.de
DTSTART;TZID=Europe/Berlin:20231205T090000
DTEND;TZID=Europe/Berlin:20231205T160000
DTSTAMP:20231121T080723Z
URL:https://lvkp-bw.de/events/landespsychologenkonferenz-karlsbad/
SUMMARY:Landespsychologenkonferenz Karlsbad-Langensteinbach
DESCRIPTION:\n\n.\n\nEine Buchung von Tickets ist nur nach Anmeldung mögli
 ch.\n\n\nMitglieder\, die die Zugangsdaten vergessen haben\, können sich 
 über die "Passwort vergessen"-funktion ein neues Passwort erstellen.\n\nE
 ine erneute Registrierung mit einer bereits registrierten E-Mail-Adresse i
 st nicht möglich.\n\nWenn Sie noch keine Anmeldedaten haben\, ist eine ei
 nmalige Registrierung notwendig\, die auch im Verlauf des Buchungsprozesse
 s angelegt werden kann.\n\nDie eingegebenen Daten werden nur für die Orga
 nisation der Landespsychologenkonferenz verwendet. Es findet keine Weiterg
 abe der Daten statt.\n\n.\n\n\n\n&nbsp\;
LOCATION:SRH Klinikum Karlsbad-Langensteinbach\, Guttmannstraße 1\, Karlsb
 ad-Langensteinbach\, 76307 \, Deutschland
X-APPLE-STRUCTURED-LOCATION;VALUE=URI;X-ADDRESS=Guttmannstraße 1\, Karlsba
 d-Langensteinbach\, 76307 \, Deutschland;X-APPLE-RADIUS=100;X-TITLE=SRH Kl
 inikum Karlsbad-Langensteinbach:geo:0,0
END:VEVENT
BEGIN:VTIMEZONE
TZID:Europe/Berlin
X-LIC-LOCATION:Europe/Berlin
BEGIN:STANDARD
DTSTART:20231029T020000
TZOFFSETFROM:+0200
TZOFFSETTO:+0100
TZNAME:CET
END:STANDARD
END:VTIMEZONE
END:VCALENDAR